BEGIN:VCALENDAR
VERSION:2.0
PRODID:-// - ECPv6.15.20//NONSGML v1.0//EN
CALSCALE:GREGORIAN
METHOD:PUBLISH
X-ORIGINAL-URL:https://jandjsoulfulsteps.com
X-WR-CALDESC:Events for 
REFRESH-INTERVAL;VALUE=DURATION:PT1H
X-Robots-Tag:noindex
X-PUBLISHED-TTL:PT1H
BEGIN:VTIMEZONE
TZID:UTC
BEGIN:STANDARD
TZOFFSETFROM:+0000
TZOFFSETTO:+0000
TZNAME:UTC
DTSTART:20210101T000000
END:STANDARD
END:VTIMEZONE
BEGIN:VEVENT
DTSTART;VALUE=DATE:20230127
DTEND;VALUE=DATE:20230130
DTSTAMP:20260425T172538
CREATED:20221129T222917Z
LAST-MODIFIED:20221129T222917Z
UID:9199-1674777600-1675036799@jandjsoulfulsteps.com
SUMMARY:UC Stars 2023
DESCRIPTION:
URL:https://jandjsoulfulsteps.com/event/uc-stars-2023/
LOCATION:Renaissance Baltimore Harborplace Hotel\, 202 East Pratt Street\, Baltimore\, MD\, 21202\, United States
END:VEVENT
BEGIN:VEVENT
DTSTART;TZID=UTC:20230122T120000
DTEND;TZID=UTC:20230122T190000
DTSTAMP:20260425T172538
CREATED:20221129T222246Z
LAST-MODIFIED:20221129T222246Z
UID:9190-1674388800-1674414000@jandjsoulfulsteps.com
SUMMARY:Dream Workshop
DESCRIPTION:
URL:https://jandjsoulfulsteps.com/event/dream-workshop/
LOCATION:The Chateau\, 1700 W Holt\, Pomona\, CA\, 91768\, United States
CATEGORIES:Upcoming Activities
ORGANIZER;CN="Jackie Bowie":MAILTO:dance4fun4life@gmail.com
END:VEVENT
BEGIN:VEVENT
DTSTART;TZID=UTC:20221230T180000
DTEND;TZID=UTC:20221230T235900
DTSTAMP:20260425T172538
CREATED:20220914T062736Z
LAST-MODIFIED:20221107T104514Z
UID:8815-1672423200-1672444740@jandjsoulfulsteps.com
SUMMARY:J&J Almost New Years Eve Party
DESCRIPTION:
URL:https://jandjsoulfulsteps.com/event/jj-almost-new-years-eve-party/
LOCATION:Westchester Elk’s Lodge\, 8025 W Manchester Avenue\, Playa Del Rey\, CA\, 90293\, United States
CATEGORIES:Upcoming Activities
ORGANIZER;CN="J&J":MAILTO:jrice@jandj-soulfulsteps.com
END:VEVENT
BEGIN:VEVENT
DTSTART;TZID=UTC:20221210T120000
DTEND;TZID=UTC:20221210T170000
DTSTAMP:20260425T172538
CREATED:20221128T174644Z
LAST-MODIFIED:20221128T174644Z
UID:9140-1670673600-1670691600@jandjsoulfulsteps.com
SUMMARY:Jammie Jam Christmas Party
DESCRIPTION:
URL:https://jandjsoulfulsteps.com/event/jammie-jam-christmas-party/
LOCATION:The Talent Factory\, 13067 12th Street\, Chino\, CA\, United States
CATEGORIES:Upcoming Activities
ORGANIZER;CN="David Carmack &amp%3B LaTanya Lair":MAILTO:decarmack@outlook.com
END:VEVENT
BEGIN:VEVENT
DTSTART;TZID=UTC:20221112T180000
DTEND;TZID=UTC:20221112T233000
DTSTAMP:20260425T172538
CREATED:20220810T232356Z
LAST-MODIFIED:20221107T104632Z
UID:8762-1668276000-1668295800@jandjsoulfulsteps.com
SUMMARY:Verlosity Pre-Holiday Party
DESCRIPTION:
URL:https://jandjsoulfulsteps.com/event/verlosity-pre-holiday-party/
LOCATION:Encinitas Community & Senior Center\, 1140 Oakcrest Park Drive\, Encinitas\, CA\, 92024\, United States
CATEGORIES:Upcoming Activities
END:VEVENT
BEGIN:VEVENT
DTSTART;TZID=UTC:20221029T130000
DTEND;TZID=UTC:20221029T180000
DTSTAMP:20260425T172538
CREATED:20220914T060728Z
LAST-MODIFIED:20221128T180612Z
UID:8753-1667048400-1667066400@jandjsoulfulsteps.com
SUMMARY:J&J Halloween Party
DESCRIPTION:
URL:https://jandjsoulfulsteps.com/event/halloween-party/
LOCATION:The Cosmopolitan IE\, 16766 Arrow Blvd\, Fontana\, CA\, 92336\, United States
ORGANIZER;CN="J&J":MAILTO:jrice@jandj-soulfulsteps.com
END:VEVENT
BEGIN:VEVENT
DTSTART;TZID=UTC:20221009T150000
DTEND;TZID=UTC:20221009T210000
DTSTAMP:20260425T172538
CREATED:20220914T062341Z
LAST-MODIFIED:20221128T180719Z
UID:8811-1665327600-1665349200@jandjsoulfulsteps.com
SUMMARY:Black & White Extravaganza
DESCRIPTION:Raffle Ticket & Dinner Included \nBlack & White is like “Back In The Day!”  Get ready for a delicious dinner\, old school music\, line dancing\, dominoes and Bid Whist tables.
URL:https://jandjsoulfulsteps.com/event/black-white-extravaganza/
LOCATION:El Sombrero Banquet Hall\, 354 S 7th Street\, Colton\, CA\, 92324\, United States
END:VEVENT
END:VCALENDAR